BEGIN:VCALENDAR
VERSION:2.0
PRODID:-//Big Improvement Day - ECPv6.15.14//NONSGML v1.0//EN
CALSCALE:GREGORIAN
METHOD:PUBLISH
X-WR-CALNAME:Big Improvement Day
X-ORIGINAL-URL:https://bigimprovementday.org
X-WR-CALDESC:Evenementen voor Big Improvement Day
REFRESH-INTERVAL;VALUE=DURATION:PT1H
X-Robots-Tag:noindex
X-PUBLISHED-TTL:PT1H
BEGIN:VTIMEZONE
TZID:Europe/Amsterdam
BEGIN:DAYLIGHT
TZOFFSETFROM:+0100
TZOFFSETTO:+0200
TZNAME:CEST
DTSTART:20230326T010000
END:DAYLIGHT
BEGIN:STANDARD
TZOFFSETFROM:+0200
TZOFFSETTO:+0100
TZNAME:CET
DTSTART:20231029T010000
END:STANDARD
BEGIN:DAYLIGHT
TZOFFSETFROM:+0100
TZOFFSETTO:+0200
TZNAME:CEST
DTSTART:20240331T010000
END:DAYLIGHT
BEGIN:STANDARD
TZOFFSETFROM:+0200
TZOFFSETTO:+0100
TZNAME:CET
DTSTART:20241027T010000
END:STANDARD
BEGIN:DAYLIGHT
TZOFFSETFROM:+0100
TZOFFSETTO:+0200
TZNAME:CEST
DTSTART:20250330T010000
END:DAYLIGHT
BEGIN:STANDARD
TZOFFSETFROM:+0200
TZOFFSETTO:+0100
TZNAME:CET
DTSTART:20251026T010000
END:STANDARD
BEGIN:DAYLIGHT
TZOFFSETFROM:+0100
TZOFFSETTO:+0200
TZNAME:CEST
DTSTART:20260329T010000
END:DAYLIGHT
BEGIN:STANDARD
TZOFFSETFROM:+0200
TZOFFSETTO:+0100
TZNAME:CET
DTSTART:20261025T010000
END:STANDARD
END:VTIMEZONE
BEGIN:VEVENT
DTSTART;TZID=Europe/Amsterdam:20240916T173000
DTEND;TZID=Europe/Amsterdam:20240916T213000
DTSTAMP:20260420T055554
CREATED:20240305T142644Z
LAST-MODIFIED:20240828T124056Z
UID:57305-1726507800-1726522200@bigimprovementday.org
SUMMARY:BID Educatiediner 2024
DESCRIPTION:BID Educatiediner: de topdialoog voor elke onderwijsprofessional\nHet BID Educatiediner is een exclusief evenement dat zich richt op de toekomst van onderwijs en ontwikkeling in Nederland. Dit diner brengt een unieke mix van onderwijsprofessionals\, beleidsmakers\, bedrijfsleiders en innovators samen om de dialoog aan te gaan over hoe we het onderwijslandschap in Nederland kunnen verbeteren en innoveren. Het doel van het BID Educatiediner is om een platform te bieden voor het uitwisselen van kennis\, inspiratie en best practices\, met een sterke focus op samenwerking tussen verschillende sectoren. \n \nLees meer over onze 7de editie van het BID Educatiediner! \nTijdens het diner worden de meest actuele en relevante onderwerpen binnen het onderwijs besproken\, zoals technologische innovatie in de klas\, het bevorderen van gelijke kansen voor alle studenten\, en het ontwikkelen van vaardigheden die aansluiten bij de behoeften van de moderne arbeidsmarkt. Het evenement biedt een uitgelezen kans om in een informele setting te netwerken en partnerships te vormen die kunnen bijdragen aan het versterken en vernieuwen van het onderwijs in Nederland. \n  \nDe Leraren van het Jaar\nHet BID Educatiediner erkent ook de uitmuntendheid en de toewijding van onderwijsprofessionals door middel van een awards-ceremonie\, waarbij individuen of initiatieven die een significante impact hebben gehad op het onderwijs in het zonnetje worden gezet. Deze erkenning dient als een stimulans voor vernieuwing en excellentie in het onderwijs. Daarom is de BID erg trots op haar partnership met de Stichting Leraren van het Jaar. Deze onderwijshelden hebben dan ook meermaals gesproken op onze evenementen. \nDe avond is niet alleen een moment van erkenning en inspiratie\, maar ook een oproep tot actie. Deelnemers worden aangemoedigd om met concrete ideeën en initiatieven te komen die de transformatie van het onderwijs kunnen versnellen. Het BID Educatiediner is daarmee een katalysator voor positieve verandering en innovatie binnen het onderwijsveld. \nMeldt u nu aan voor de Educatienieuwsbrief om op de hoogte te blijven van actuele ontwikkelingen en om u eventueel aan te melden voor de werkgroep! \n  \nBenieuwd of een BID-partnership iets kan betekenen voor uw bedrijf? Neem contact met ons op!
URL:https://bigimprovementday.org/event/bid-educatiediner-2024/
CATEGORIES:BID Agenda 2024
ATTACH;FMTTYPE=image/jpeg:https://bigimprovementday.org/wp-content/uploads/2024/03/BID-Educatiediner-2023-jpg.webp
END:VEVENT
BEGIN:VEVENT
DTSTART;TZID=Europe/Amsterdam:20250120T180000
DTEND;TZID=Europe/Amsterdam:20250120T233000
DTSTAMP:20260420T055554
CREATED:20240305T131616Z
LAST-MODIFIED:20240305T141022Z
UID:57278-1737396000-1737415800@bigimprovementday.org
SUMMARY:BID Adviesraaddiner 20 januari 2025
DESCRIPTION:Het BID Adviesraaddiner in januari: de stilte voor de storm\nOp de avond voorafgaand aan de Big Improvement Day vindt er altijd iets legendarisch plaats: het eerste BID Adviesraaddiner van het jaar.  Op deze avond komt de absolute top van de Nederlandse overheid\, bedrijfsleven\, media\, onderwijs en sport bijeen voor een wel heel bijzonder diner\, want ook bijzondere sprekers en speciale deelnemers van de Big Improvement Day zullen hier aanwezig zijn. \n \nBekijk hier de sfeerimpressie en aftermovie van het BID Adviesraaddiner voorafgaand aan de Big Improvement Day 2024! \nDit topdiner is speciaal ontworpen als een moment van waardering voor de leiderschap en de voortdurende inzet van onze partners\, die cruciaal zijn geweest voor het succes en de groei van de BID-beweging. Tijdens deze bijzondere avond hebben de deelnemers de unieke kans om in een intieme en inspirerende setting van gedachten te wisselen over de toekomst\, innovatie\, en de uitdagingen en kansen die voor ons liggen. Het diner biedt een platform voor diepgaande dialogen\, het delen van visies\, en het verkennen van mogelijkheden voor samenwerking en synergieën tussen de verschillende sectoren. Het is een uitgelezen kans om te netwerken met gelijkgestemden en om samen te bouwen aan een duurzame en innovatieve toekomst. \nBenieuwd of een BID-partnership iets kan betekenen voor uw bedrijf? Neem contact met ons op!
URL:https://bigimprovementday.org/event/bid-adviesraaddiner-20-januari-2025/
CATEGORIES:BID Agenda 2024
ATTACH;FMTTYPE=image/jpeg:https://bigimprovementday.org/wp-content/uploads/2024/01/DSF7365-scaled.webp
END:VEVENT
BEGIN:VEVENT
DTSTART;TZID=Europe/Amsterdam:20250909T173000
DTEND;TZID=Europe/Amsterdam:20250909T223000
DTSTAMP:20260420T055554
CREATED:20240305T100307Z
LAST-MODIFIED:20250127T082919Z
UID:57265-1757439000-1757457000@bigimprovementday.org
SUMMARY:Haags BID Diner 2025
DESCRIPTION:Haags BID Diner: voor én van de stad van kansen en topmensen\nDen Haag is de stad die kansen biedt en energie geeft. Door de inwoners\, ondernemers en vele organisaties. Samen met jou maken wij onze stad nog mooier en Haagser! Om de pracht van onze stad te vieren\, organiseren de Big Improvement Days\, de gemeente Den Haag en Sjaak Bral het Haags BID Diner: een samenzijn van een zeer select aantal mensen uit de stad\, die het Haagse DNA kent en ademt. \nHet doel van het samenzijn is tweedelig. Enerzijds om nieuwe contacten tussen verschillende disciplines aan te gaan en innovatieve samenwerkingsverbanden te smeden; Anderzijds om vernieuwende ideeën aan te dragen voor onze mooie stad. Maar het is ook een bijeenkomst voor de stad waardoor jouw netwerk versterkt wordt. Iedereen gaat naar huis met minimaal één idee\, één nieuw contact en één actie; dit is de gedachte achter Big Improvement Day
URL:https://bigimprovementday.org/event/haags-bid-diner-2024/
CATEGORIES:BID Agenda 2024
ATTACH;FMTTYPE=image/jpeg:https://bigimprovementday.org/wp-content/uploads/2023/09/DSF2271-scaled.webp
END:VEVENT
END:VCALENDAR