BEGIN:VCALENDAR
VERSION:2.0
PRODID:-//Big Improvement Day - ECPv6.15.14//NONSGML v1.0//EN
CALSCALE:GREGORIAN
METHOD:PUBLISH
X-WR-CALNAME:Big Improvement Day
X-ORIGINAL-URL:https://bigimprovementday.org
X-WR-CALDESC:Evenementen voor Big Improvement Day
REFRESH-INTERVAL;VALUE=DURATION:PT1H
X-Robots-Tag:noindex
X-PUBLISHED-TTL:PT1H
BEGIN:VTIMEZONE
TZID:Europe/Amsterdam
BEGIN:DAYLIGHT
TZOFFSETFROM:+0100
TZOFFSETTO:+0200
TZNAME:CEST
DTSTART:20230326T010000
END:DAYLIGHT
BEGIN:STANDARD
TZOFFSETFROM:+0200
TZOFFSETTO:+0100
TZNAME:CET
DTSTART:20231029T010000
END:STANDARD
BEGIN:DAYLIGHT
TZOFFSETFROM:+0100
TZOFFSETTO:+0200
TZNAME:CEST
DTSTART:20240331T010000
END:DAYLIGHT
BEGIN:STANDARD
TZOFFSETFROM:+0200
TZOFFSETTO:+0100
TZNAME:CET
DTSTART:20241027T010000
END:STANDARD
BEGIN:DAYLIGHT
TZOFFSETFROM:+0100
TZOFFSETTO:+0200
TZNAME:CEST
DTSTART:20250330T010000
END:DAYLIGHT
BEGIN:STANDARD
TZOFFSETFROM:+0200
TZOFFSETTO:+0100
TZNAME:CET
DTSTART:20251026T010000
END:STANDARD
END:VTIMEZONE
BEGIN:VEVENT
DTSTART;TZID=Europe/Amsterdam:20240527T123000
DTEND;TZID=Europe/Amsterdam:20240527T163000
DTSTAMP:20260422T012723
CREATED:20240304T160529Z
LAST-MODIFIED:20240305T140039Z
UID:57256-1716813000-1716827400@bigimprovementday.org
SUMMARY:BID Stimuleringsraadlunch 27 mei 2024
DESCRIPTION:BID Stimuleringsraadlunch: lunch met de top van de Nederlandse samenleving!\nDe BID Stimuleringsraadlunch is een toplunch dat leden van onze stimuleringsraad\, bestaande uit de top van het bedrijfsleven en overheid. Deze bijeenkomst dient als een platform voor innovatie\, inspiratie en netwerken\, waarbij de strategische laag en managers van partners de kans krijgen om te discussiëren en input te leveren over cruciale thema’s zoals veiligheid\, duurzaamheid\, onderwijs\, ondernemerschap\, en leiderschap. De lunch is ontworpen om experts en gedreven professionals uit zowel het bedrijfsleven als de overheid samen te brengen\, met als doel het delen van inzichten\, ervaringen\, en perspectieven. Deze unieke gelegenheid benadrukt de waardering voor de steun en toewijding van de partners en streeft naar het bevorderen van samenwerking\, kennisdeling\, en het aangaan van hedendaagse uitdagingen door middel van een zinvolle dialoog. \nBekijk hier de beelden van de meest recente Stimuleringsraadlunch. \nBenieuwd of een BID-partnership iets kan betekenen voor uw bedrijf? Neem contact met ons op!
URL:https://bigimprovementday.org/event/bid-stimuleringsraadlunch-27052024/
LOCATION:Kasteel de Wittenburg\, Landgoed de Wittenburg 1\, Wassenaar\, 2244 BV\, Netherlands
CATEGORIES:BID Agenda 2024
ATTACH;FMTTYPE=image/jpeg:https://bigimprovementday.org/wp-content/uploads/2024/03/kasteelwittenpurgjpeg-jpg.webp
END:VEVENT
BEGIN:VEVENT
DTSTART;TZID=Europe/Amsterdam:20240327T180000
DTEND;TZID=Europe/Amsterdam:20240327T221500
DTSTAMP:20260422T012723
CREATED:20240304T154317Z
LAST-MODIFIED:20240305T151420Z
UID:57252-1711562400-1711577700@bigimprovementday.org
SUMMARY:BID Nationaal Positiviteitsdiner 2024
DESCRIPTION:Dé belichaming van de BID-gedachte: het Nationaal Positiviteitsdiner!\nHet BID Nationaal Positiviteitsdiner is een uniek evenement waarbij positiviteit en vooruitstrevendheid binnen de Nederlandse samenleving centraal staan. Dit jaarlijkse diner dient als een moment om terug te blikken op de prestaties van het afgelopen jaar en vooruit te kijken naar de toekomstige activiteiten en de Big Improvement Day 2025. \nDe avond biedt een platform voor het vieren van opmerkelijke bijdragen aan een positieve maatschappelijke verandering. Tijdens het diner worden er prestigieuze prijzen uitgereikt\, waaronder die voor de Meest Positieve Politicus\, dit jaar toegekend aan Eric van der Burg\, Staatssecretaris van Justitie en Veiligheid. Daarnaast worden de winnaars van de prijs voor de Meest Positieve Overheidsorganisatie van het jaar gehuldigd. Dit jaar viel de eer te beurt aan het Fietsteam van het Ministerie van Infrastructuur en Waterstaat en de Dienst Stedelijke Innovatie van de gemeente Amsterdam. Beide organisaties hebben bewezen dat het mogelijk is om op innovatieve en positieve wijze bij te dragen aan de samenleving. Ook werd er een speciale onderscheiding uitgereikt aan Huh\, wat bedoelt u?: het meldpunt voor onbegrijpelijke zaken\, voor hun inzet in het verduidelijken van complexe kwesties. \nBenieuwd of een BID-partnership iets kan betekenen voor uw bedrijf? Neem contact met ons op! \n  \n 
URL:https://bigimprovementday.org/event/bid-nationaal-positiviteitsdiner-2024/
LOCATION:Restaurant Hart Beach\, Strandweg 3\, Den Haag\, 2586JK\, Netherlands
CATEGORIES:BID Agenda 2024
ATTACH;FMTTYPE=image/jpeg:https://bigimprovementday.org/wp-content/uploads/2024/01/DSF7055-scaled.webp
END:VEVENT
END:VCALENDAR